BEGIN:VCALENDAR
VERSION:2.0
PRODID:-//Nicholas &amp; Friends Foundation - ECPv6.15.18//NONSGML v1.0//EN
CALSCALE:GREGORIAN
METHOD:PUBLISH
X-WR-CALNAME:Nicholas &amp; Friends Foundation
X-ORIGINAL-URL:https://nicholasandfriends.org
X-WR-CALDESC:Events for Nicholas &amp; Friends Foundation
REFRESH-INTERVAL;VALUE=DURATION:PT1H
X-Robots-Tag:noindex
X-PUBLISHED-TTL:PT1H
BEGIN:VTIMEZONE
TZID:America/New_York
BEGIN:DAYLIGHT
TZOFFSETFROM:-0500
TZOFFSETTO:-0400
TZNAME:EDT
DTSTART:20200308T070000
END:DAYLIGHT
BEGIN:STANDARD
TZOFFSETFROM:-0400
TZOFFSETTO:-0500
TZNAME:EST
DTSTART:20201101T060000
END:STANDARD
BEGIN:DAYLIGHT
TZOFFSETFROM:-0500
TZOFFSETTO:-0400
TZNAME:EDT
DTSTART:20210314T070000
END:DAYLIGHT
BEGIN:STANDARD
TZOFFSETFROM:-0400
TZOFFSETTO:-0500
TZNAME:EST
DTSTART:20211107T060000
END:STANDARD
BEGIN:DAYLIGHT
TZOFFSETFROM:-0500
TZOFFSETTO:-0400
TZNAME:EDT
DTSTART:20220313T070000
END:DAYLIGHT
BEGIN:STANDARD
TZOFFSETFROM:-0400
TZOFFSETTO:-0500
TZNAME:EST
DTSTART:20221106T060000
END:STANDARD
BEGIN:DAYLIGHT
TZOFFSETFROM:-0500
TZOFFSETTO:-0400
TZNAME:EDT
DTSTART:20230312T070000
END:DAYLIGHT
BEGIN:STANDARD
TZOFFSETFROM:-0400
TZOFFSETTO:-0500
TZNAME:EST
DTSTART:20231105T060000
END:STANDARD
END:VTIMEZONE
BEGIN:VEVENT
DTSTART;TZID=America/New_York:20220513T190000
DTEND;TZID=America/New_York:20220513T210000
DTSTAMP:20260423T162231
CREATED:20220411T014651Z
LAST-MODIFIED:20220411T020218Z
UID:455-1652468400-1652475600@nicholasandfriends.org
SUMMARY:Comedy Night & Silent Auction
DESCRIPTION:Comedy & Silent Auction benefiting Nicholas & Friends Foundation. A Non-Profit that support Special Needs Children and their Classrooms.\n\n\n\n\n\n\n\nAbout this event\n\n\nCome on out for a night of laughs and the chance to bid on one of a kind artwork that will be provided by our Heroes\, the special needs children from Our World School. \nYour ticket includes entry to the show\, appetizers\, and two free drink tickets. \nAll proceeds will benefit Nicholas & Friends Foundation\, Our World School\, and Operation Lunchbox \nDate and time\n\nFri\, May 13\, 2022 \n7:00 PM – 9:00 PM EDT \n\nLocation\n\nGallery at Hood Street \n136 Hood Street \nMcDonough\, GA 30253 \nBUY TICKETS!!
URL:https://nicholasandfriends.org/event/comedy-night-silent-auction/
LOCATION:Gallery at Hood Street\, 136 Hood Street\, McDonough\, GA\, 30253\, United States
CATEGORIES:Fundraising
ATTACH;FMTTYPE=image/webp:https://nicholasandfriends.org/wp-content/uploads/2022/04/Comedy-Show-AdobeStock_194888694-800x420-1.webp
ORGANIZER;CN="Nicholas & Friends Foundation":MAILTO:info@nicholasandfriends.org
END:VEVENT
BEGIN:VEVENT
DTSTART;TZID=America/New_York:20210821T140000
DTEND;TZID=America/New_York:20210821T233000
DTSTAMP:20260423T162231
CREATED:20210728T013343Z
LAST-MODIFIED:20210813T024450Z
UID:190-1629554400-1629588600@nicholasandfriends.org
SUMMARY:McDonough Rock Festival
DESCRIPTION:Festival Event Details \nWE ARE CHANGING VENUES!! \nUnfortunately\, with regrets\, Henry County has cancelled the next 60 days of events on/in their facilities\, so we can no longer use the Jason T. Harper Event Center. \nNew Location:\nSouthern Roots Tavern & Eatery\n15 Griffin St\, McDonough\, GA 30253 \n**For tickets purchased already\, nothing changes\, the full event schedule will go ahead as planned. \nThis decision was not made from haste. With the amazing lineup we have\, the show must go on\, just at a reduced capacity to ensure everyone’s safety and still deliver a quality experience. Please don’t hesitate with any questions you may have or refund requests because of the venue change. \n\nWhen:\nAugust 21st\, 2021\n\nTime:\nDoors Open @ 2:00 PM\nMusic Starts @ 3:00 PM  \nNathan Morgan Band: 3:00 PM ~ 4:00 PM\nSkynFolks: 4:45 PM ~ 6:15 PM\nHead Games: 7:00 PM ~ 8:30 PM\nDEPARTURE: 9:15 PM ~ 10:45 PM \n\n\nAddress:\n95 Lake Dow Rd\nMcDonough\, GA 30252 \n\n\nAmenities:\n*Rain or Shine Covered Event Center\n*Food\, Refreshments\, and Alcohol provided by Southern Roots Tavern & Eatery\n*Restroom Facilities\n*Practical COVID-19 Protections and Policies in Place \nParking: Lots are located immediately in and around Southern Roots in the McDonough Town Square. \n\nAdmission:\n*General Admission (Online Advance Sale): $30 + Processing Fees\n*General Admission (Gate/Day Of): $40 *Cash Only\n*Children 12 & Under: Free Admission\n*VIP Entry (Online Advance Sale) : $50 + Processing Fees\n\n** VIP Package Includes: VIP Seating + VIP Swag Package
URL:https://nicholasandfriends.org/event/mcdonough-rock-festival/
LOCATION:Southern Roots Tavern & Eatery\, 15 Griffin Street\, McDonough\, GA\, 30253\, United States
CATEGORIES:Concert,Fundraising
ATTACH;FMTTYPE=image/jpeg:https://nicholasandfriends.org/wp-content/uploads/2021/07/MRF_StaticRed.jpg
ORGANIZER;CN="Nicholas & Friends Foundation":MAILTO:info@nicholasandfriends.org
END:VEVENT
END:VCALENDAR